BEGIN:VCALENDAR
VERSION:2.0
PRODID:-//Studio 2324 - Dance Classes Raymond Terrace - ECPv5.2.1//NONSGML v1.0//EN
CALSCALE:GREGORIAN
METHOD:PUBLISH
X-WR-CALNAME:Studio 2324 - Dance Classes Raymond Terrace
X-ORIGINAL-URL:https://www.studio2324.com.au
X-WR-CALDESC:Events for Studio 2324 - Dance Classes Raymond Terrace
BEGIN:VTIMEZONE
TZID:Australia/Melbourne
BEGIN:STANDARD
TZOFFSETFROM:+1100
TZOFFSETTO:+1000
TZNAME:AEST
DTSTART:20210403T160000
END:STANDARD
BEGIN:DAYLIGHT
TZOFFSETFROM:+1000
TZOFFSETTO:+1100
TZNAME:AEDT
DTSTART:20211002T160000
END:DAYLIGHT
END:VTIMEZONE
BEGIN:VEVENT
DTSTART;VALUE=DATE:20210329
DTEND;VALUE=DATE:20210330
DTSTAMP:20210301T093658
CREATED:20210110T022754Z
LAST-MODIFIED:20210110T022754Z
UID:1659-1616976000-1617062399@www.studio2324.com.au
SUMMARY:Term 1 Week 9
DESCRIPTION:
URL:https://www.studio2324.com.au/event/term-1-week-9-6/
END:VEVENT
BEGIN:VEVENT
DTSTART;VALUE=DATE:20210402
DTEND;VALUE=DATE:20210419
DTSTAMP:20210301T093658
CREATED:20210110T022831Z
LAST-MODIFIED:20210110T023201Z
UID:1661-1617321600-1618790399@www.studio2324.com.au
SUMMARY:School Holidays
DESCRIPTION:
URL:https://www.studio2324.com.au/event/school-holidays-24/
END:VEVENT
BEGIN:VEVENT
DTSTART;VALUE=DATE:20210419
DTEND;VALUE=DATE:20210420
DTSTAMP:20210301T093658
CREATED:20210110T023102Z
LAST-MODIFIED:20210110T023102Z
UID:1663-1618790400-1618876799@www.studio2324.com.au
SUMMARY:Term 2 Week 1
DESCRIPTION:
URL:https://www.studio2324.com.au/event/term-2-week-1-7/
END:VEVENT
BEGIN:VEVENT
DTSTART;VALUE=DATE:20210426
DTEND;VALUE=DATE:20210427
DTSTAMP:20210301T093658
CREATED:20210110T023224Z
LAST-MODIFIED:20210110T023224Z
UID:1665-1619395200-1619481599@www.studio2324.com.au
SUMMARY:Term 2 Week 2
DESCRIPTION:
URL:https://www.studio2324.com.au/event/term-2-week-2-6/
END:VEVENT
END:VCALENDAR